BEGIN:VCALENDAR
VERSION:2.0
CALSCALE:GREGORIAN
PRODID:adamgibbons/ics
METHOD:PUBLISH
X-PUBLISHED-TTL:PT1H
BEGIN:VEVENT
UID:2164@agenda.villemorte.fr
SUMMARY:Dub the Grrrnd #5 avec Radio Canut
DTSTAMP:20260424T142626Z
DTSTART:20260424T160000Z
URL:https://agenda.villemorte.fr/event/dub-the-grrrnd-5-avec-radio-canut
LOCATION:Grrrnd Zero - 60\, avenue de Bohlen 69120\, Vaulx en Velin
STATUS:CONFIRMED
CATEGORIES:musique live,DJ Set
END:VEVENT
BEGIN:VEVENT
UID:2273@agenda.villemorte.fr
SUMMARY:EFFEUILLAGE BURLESQUE + SLAM
DTSTAMP:20260424T142626Z
DTSTART:20260424T171500Z
DTEND:20260424T230000Z
URL:https://agenda.villemorte.fr/event/effeuillage-burlesque-slam
LOCATION:Groom - 6 rue roger violi\n 69001\, Lyon
STATUS:CONFIRMED
CATEGORIES:théâtre,musique live
END:VEVENT
BEGIN:VEVENT
UID:1902@agenda.villemorte.fr
SUMMARY:Spectacle Mortus tragicus
DTSTAMP:20260424T142626Z
DTSTART:20260424T180000Z
DTEND:20260426T191500Z
URL:https://agenda.villemorte.fr/event/spectacle-mortus-tragicus
LOCATION:agend'arts - 4 Rue de Belfort\, 69004 Lyon
STATUS:CONFIRMED
CATEGORIES:concert,musique live
END:VEVENT
BEGIN:VEVENT
UID:2356@agenda.villemorte.fr
SUMMARY:Christian Suicide / INNASSAAH + Secret Guest
DTSTAMP:20260424T142626Z
DTSTART:20260424T183000Z
URL:https://agenda.villemorte.fr/event/christian-suicide-innassaah-secret-g
	uest
LOCATION:Bar des Capucins - Place des capucins\, 69001 Lyon
STATUS:CONFIRMED
CATEGORIES:synth,musique live,experimental,concert
END:VEVENT
BEGIN:VEVENT
UID:2508@agenda.villemorte.fr
SUMMARY:Anniversaire d'Action Justice Climat Lyon
DTSTAMP:20260424T142626Z
DTSTART:20260425T130000Z
DTEND:20260425T230000Z
URL:https://agenda.villemorte.fr/event/anniversaire-daction-justice-climat-
	lyon
LOCATION:Alternatibar - 126 Montée de la Grande-Côte\n 69001\, Lyon
STATUS:CONFIRMED
CATEGORIES:concert,sérigraphie,associatif,rencontre,discussion,musique live
END:VEVENT
BEGIN:VEVENT
UID:2165@agenda.villemorte.fr
SUMMARY:10 ans de Terre d'Ancrages
DTSTAMP:20260424T142626Z
DTSTART:20260425T140000Z
URL:https://agenda.villemorte.fr/event/10-ans-de-terre-dancrages
LOCATION:Grrrnd Zero - 60\, avenue de Bohlen 69120\, Vaulx en Velin
STATUS:CONFIRMED
CATEGORIES:DJ Set,exposition,bouffe,musique live
END:VEVENT
BEGIN:VEVENT
UID:2384@agenda.villemorte.fr
SUMMARY:La soirée des 30 ans d'agend'Arts
DTSTAMP:20260424T142626Z
DTSTART:20260425T163000Z
DTEND:20260425T213000Z
URL:https://agenda.villemorte.fr/event/la-soiree-des-30-ans-dagendarts
LOCATION:salle de la Ficelle - 65 boulevard des Canuts 69004 Lyon
STATUS:CONFIRMED
CATEGORIES:concert,théâtre,soirée de soutien,musique live
END:VEVENT
BEGIN:VEVENT
UID:2421@agenda.villemorte.fr
SUMMARY:Les âmes vivantes des grandes aigrettes - Diaty Diallo
DTSTAMP:20260424T142626Z
DTSTART:20260425T170000Z
DTEND:20260425T180000Z
URL:https://agenda.villemorte.fr/event/les-ames-vivantes-des-grandes-aigret
	tes-diaty-diallo
LOCATION:La Machinerie - Bizarre ! - 9 Rue Louis Jouvet\, 69200 Vénissieux
STATUS:CONFIRMED
CATEGORIES:musique live,poésie
END:VEVENT
BEGIN:VEVENT
UID:2411@agenda.villemorte.fr
SUMMARY:10 ANS DES CLAMEURS
DTSTAMP:20260424T142626Z
DTSTART:20260425T170000Z
DTEND:20260425T220000Z
URL:https://agenda.villemorte.fr/event/10-ans-des-clameurs
LOCATION:Les Clameurs - 23 rue d'Aguesseau\n 69007\, LYON
STATUS:CONFIRMED
CATEGORIES:DJ Set,concert,bar autogéré,musique live
END:VEVENT
BEGIN:VEVENT
UID:1709@agenda.villemorte.fr
SUMMARY:AblaBôye
DTSTAMP:20260424T142626Z
DTSTART:20260425T183000Z
URL:https://agenda.villemorte.fr/event/ablaboye
LOCATION:A Thou Bout d'Chant - 2 rue de Thou
STATUS:CONFIRMED
CATEGORIES:musique live,chanson française,folk
END:VEVENT
BEGIN:VEVENT
UID:2297@agenda.villemorte.fr
SUMMARY:I'm free : concert gratuit - « Aki Rissanen : Omniwerk »
DTSTAMP:20260424T142626Z
DTSTART:20260428T170000Z
DTEND:20260428T190000Z
URL:https://agenda.villemorte.fr/event/im-free-concert-gratuit-aki-rissanen
	-omniwerk
LOCATION:Périscope - 13 rue Delandine\n 69002\, Lyon
STATUS:CONFIRMED
CATEGORIES:concert,musique live
END:VEVENT
BEGIN:VEVENT
UID:1903@agenda.villemorte.fr
SUMMARY:Concert Camille Laïly
DTSTAMP:20260424T142626Z
DTSTART:20260429T180000Z
DTEND:20260429T191500Z
URL:https://agenda.villemorte.fr/event/concert-camille-laily
LOCATION:agend'arts - 4 Rue de Belfort\, 69004 Lyon
STATUS:CONFIRMED
CATEGORIES:concert,musique live
END:VEVENT
BEGIN:VEVENT
UID:1904@agenda.villemorte.fr
SUMMARY:Concert Bernard Gautier-Péry
DTSTAMP:20260424T142626Z
DTSTART:20260430T180000Z
DTEND:20260430T191500Z
URL:https://agenda.villemorte.fr/event/concert-bernard-gautier-pery
LOCATION:agend'arts - 4 Rue de Belfort\, 69004 Lyon
STATUS:CONFIRMED
CATEGORIES:musique live,concert
END:VEVENT
BEGIN:VEVENT
UID:1710@agenda.villemorte.fr
SUMMARY:Fleur sous bitume + Mo(i) | Co-plateau
DTSTAMP:20260424T142626Z
DTSTART:20260430T183000Z
URL:https://agenda.villemorte.fr/event/fleur-sous-bitume-moi-or-co-plateau
LOCATION:A Thou Bout d'Chant - 2 rue de Thou
STATUS:CONFIRMED
CATEGORIES:chanson française,musique live,rap,pop
END:VEVENT
BEGIN:VEVENT
UID:2298@agenda.villemorte.fr
SUMMARY:Société Étrange 'Release Party' + Manoir Molle
DTSTAMP:20260424T142626Z
DTSTART:20260430T190000Z
DTEND:20260430T210000Z
URL:https://agenda.villemorte.fr/event/societe-etrange-release-party-manoir
	-molle
LOCATION:Périscope - 13 rue Delandine\n 69002\, Lyon
STATUS:CONFIRMED
CATEGORIES:musique live,concert
END:VEVENT
BEGIN:VEVENT
UID:2173@agenda.villemorte.fr
SUMMARY:Concert Punk Hardcore : PHOSPHORE  (hxc Bordeaux) + RUPTURE (punk r
	ock lyon)
DTSTAMP:20260424T142626Z
DTSTART:20260501T170000Z
DTEND:20260501T200000Z
URL:https://agenda.villemorte.fr/event/concert-punk-hardcore-phosphore-hxc-
	bordeaux
LOCATION:L’Amicale Du Futur - 31 Rue Sébastien Gryphe\n 69007\, LYON
STATUS:CONFIRMED
CATEGORIES:concert,musique live,DJ Set
END:VEVENT
BEGIN:VEVENT
UID:2347@agenda.villemorte.fr
SUMMARY:Siderean + Karma + Dysylumn
DTSTAMP:20260424T142626Z
DTSTART:20260505T180000Z
URL:https://agenda.villemorte.fr/event/siderean-karma-dysylumn
LOCATION:Grrrnd Zero - 60\, avenue de Bohlen 69120\, Vaulx en Velin
STATUS:CONFIRMED
CATEGORIES:concert,musique live
END:VEVENT
BEGIN:VEVENT
UID:2451@agenda.villemorte.fr
SUMMARY:Concert du Labo : Clo + RROY + Alyosha
DTSTAMP:20260424T142626Z
DTSTART:20260506T183000Z
DTEND:20260506T210000Z
URL:https://agenda.villemorte.fr/event/concert-du-labo-clo-rroy-alyosha
LOCATION:Marché Gare - 34 rue Casimir Périer\n 69002\, Lyon
STATUS:CONFIRMED
CATEGORIES:musique live,pop-rock,concert
END:VEVENT
BEGIN:VEVENT
UID:2441@agenda.villemorte.fr
SUMMARY:Milkweed + Sourdure au Périscope
DTSTAMP:20260424T142626Z
DTSTART:20260506T190000Z
DTEND:20260506T210000Z
URL:https://agenda.villemorte.fr/event/milkweed-sourdure-au-periscope
LOCATION:Périscope - 13 rue Delandine\n 69002\, Lyon
STATUS:CONFIRMED
CATEGORIES:concert,musique live
END:VEVENT
BEGIN:VEVENT
UID:2455@agenda.villemorte.fr
SUMMARY:Milena et Clémentine Weck
DTSTAMP:20260424T142626Z
DTSTART:20260507T173000Z
DTEND:20260507T210000Z
URL:https://agenda.villemorte.fr/event/milena-et-clementine-weck
LOCATION:Bulle de Son - 72 Rue du Bourbonnais\, 69009 Lyon
STATUS:CONFIRMED
CATEGORIES:concert,musique live
END:VEVENT
BEGIN:VEVENT
UID:1711@agenda.villemorte.fr
SUMMARY:Marcia + Lisa Claudie | Co-plateau
DTSTAMP:20260424T142626Z
DTSTART:20260507T183000Z
URL:https://agenda.villemorte.fr/event/marcia-lisa-claudie-or-co-plateau
LOCATION:A Thou Bout d'Chant - 2 rue de Thou
STATUS:CONFIRMED
CATEGORIES:musique live,pop,chanson française,musique electronique
END:VEVENT
BEGIN:VEVENT
UID:2452@agenda.villemorte.fr
SUMMARY:Concert : Bandit Bandit + Blue Salt
DTSTAMP:20260424T142626Z
DTSTART:20260507T183000Z
DTEND:20260507T210000Z
URL:https://agenda.villemorte.fr/event/concert-bandit-bandit-blue-salt
LOCATION:Marché Gare - 34 rue Casimir Périer\n 69002\, Lyon
STATUS:CONFIRMED
CATEGORIES:musique live,bouffe,concert,pop-rock
END:VEVENT
BEGIN:VEVENT
UID:2448@agenda.villemorte.fr
SUMMARY:Sauges + Soleil Rouge au Périscope
DTSTAMP:20260424T142626Z
DTSTART:20260507T190000Z
DTEND:20260507T210000Z
URL:https://agenda.villemorte.fr/event/sauges-soleil-rouge-au-periscope
LOCATION:Périscope - 13 rue Delandine\n 69002\, Lyon
STATUS:CONFIRMED
CATEGORIES:musique live,concert
END:VEVENT
BEGIN:VEVENT
UID:2527@agenda.villemorte.fr
SUMMARY:Le Château Cosco + Groupe d'Album aux Capucins
DTSTAMP:20260424T142626Z
DTSTART:20260508T180000Z
DTEND:20260508T220000Z
URL:https://agenda.villemorte.fr/event/le-chateau-cosco-groupe-dalbum-aux-c
	apucins
LOCATION:Bar des Capucins - Place des capucins\, 69001 Lyon
STATUS:CONFIRMED
CATEGORIES:concert,musique live
END:VEVENT
BEGIN:VEVENT
UID:2465@agenda.villemorte.fr
SUMMARY:Ashed Winter + Bombburst	+ Fox Paradox
DTSTAMP:20260424T142626Z
DTSTART:20260509T173000Z
DTEND:20260509T210000Z
URL:https://agenda.villemorte.fr/event/ashed-winter-bombburst-fox-paradox
LOCATION:Bulle de Son - 72 Rue du Bourbonnais\, 69009 Lyon
STATUS:CONFIRMED
CATEGORIES:musique live
END:VEVENT
BEGIN:VEVENT
UID:2167@agenda.villemorte.fr
SUMMARY:YACOPSAE + SHITBRAINS + EXORBITANT PRICES MUST DIMINISH + WARFUCK
DTSTAMP:20260424T142626Z
DTSTART:20260509T180000Z
URL:https://agenda.villemorte.fr/event/yacopsae-shitbrains-exorbitant-price
	s-must-diminish-warfuck
LOCATION:Grrrnd Zero - 60\, avenue de Bohlen 69120\, Vaulx en Velin
STATUS:CONFIRMED
CATEGORIES:concert,musique live
END:VEVENT
BEGIN:VEVENT
UID:1905@agenda.villemorte.fr
SUMMARY:Concert Aigre douce
DTSTAMP:20260424T142626Z
DTSTART:20260509T180000Z
DTEND:20260509T190000Z
URL:https://agenda.villemorte.fr/event/concert-aigre-douce
LOCATION:agend'arts - 4 Rue de Belfort\, 69004 Lyon
STATUS:CONFIRMED
CATEGORIES:concert,musique live
END:VEVENT
BEGIN:VEVENT
UID:2386@agenda.villemorte.fr
SUMMARY:Balade chapeautée internationale
DTSTAMP:20260424T142626Z
DTSTART:20260510T140000Z
DTEND:20260510T160000Z
URL:https://agenda.villemorte.fr/event/balade-chapeautee-internationale
LOCATION:RDV devant la statue de Jacquard. - Place de la Croix Rousse
STATUS:CONFIRMED
CATEGORIES:musique live
END:VEVENT
BEGIN:VEVENT
UID:2442@agenda.villemorte.fr
SUMMARY:Pali Meursault : concert gratuit au Périscope
DTSTAMP:20260424T142626Z
DTSTART:20260512T170000Z
DTEND:20260512T190000Z
URL:https://agenda.villemorte.fr/event/pali-meursault-concert-gratuit-au-pe
	riscope
LOCATION:Périscope - 13 rue Delandine\n 69002\, Lyon
STATUS:CONFIRMED
CATEGORIES:musique live
END:VEVENT
BEGIN:VEVENT
UID:2491@agenda.villemorte.fr
SUMMARY:Vernissage · Exposition "En-corporæ"  | Lecture · Concert · Djset ·
DTSTAMP:20260424T142626Z
DTSTART:20260514T160000Z
DTEND:20260514T220000Z
URL:https://agenda.villemorte.fr/event/vernissage-exposition-en-corporae-or
	-lecture-concert-djset
LOCATION:BosKop - 60 rue Sébastien Gryphe\n 69007\, Lyon
STATUS:CONFIRMED
CATEGORIES:discussion,DJ Set,exposition,musique live
END:VEVENT
BEGIN:VEVENT
UID:2025@agenda.villemorte.fr
SUMMARY:Concert PUNK : DESTRUCT (dbeat punk usa) / UZU (post punk Montréal)
	 / DELETÄR (dbeat punk lyon)
DTSTAMP:20260424T142626Z
DTSTART:20260514T180000Z
DTEND:20260514T230000Z
URL:https://agenda.villemorte.fr/event/concert-punk-destruct-dbeat-punk-usa
	-uzu-post-punk-montreal-deletar-dbeat-punk-lyon
LOCATION:Grrrnd Zero - 60\, avenue de Bohlen 69120\, Vaulx en Velin
STATUS:CONFIRMED
CATEGORIES:musique live,concert
END:VEVENT
BEGIN:VEVENT
UID:2485@agenda.villemorte.fr
SUMMARY:DESVER (Gloomgaze Mécanique) +  LES ARCANES (Shoegaze Grungien) + R
	ATWIFE (Folk Bizarre)
DTSTAMP:20260424T142626Z
DTSTART:20260515T180000Z
URL:https://agenda.villemorte.fr/event/desver-gloomgaze-mecanique-les-arcan
	es-shoegaze-grungien-ratwife-folk-bizarre
LOCATION:BosKop - 60 rue Sébastien Gryphe\n 69007\, Lyon
STATUS:CONFIRMED
CATEGORIES:musique live
END:VEVENT
BEGIN:VEVENT
UID:2387@agenda.villemorte.fr
SUMMARY:Soirée Space Guitar (2e édition) - Toï Toï Le Zinc
DTSTAMP:20260424T142626Z
DTSTART:20260515T183000Z
DTEND:20260515T210000Z
URL:https://agenda.villemorte.fr/event/soiree-space-guitar-2e-edition-toi-t
	oi-le-zinc
LOCATION:Toï Toï le Zinc - 17-19 Rue Marcel Dutartre\n 69100 \, Villeurbann
	e
STATUS:CONFIRMED
CATEGORIES:musique live,concert
END:VEVENT
BEGIN:VEVENT
UID:2478@agenda.villemorte.fr
SUMMARY:♡  SUPPORT UR LOCAL TRANSFEM ARTISTS  ♡  Nuage Rose + Eau Chaude Sa
	nitaire
DTSTAMP:20260424T142626Z
DTSTART:20260516T180000Z
DTEND:20260516T210000Z
URL:https://agenda.villemorte.fr/event/heart-suit-support-ur-local-transfem
	-artists-heart-suit-nuage-rose-eau-chaude-sanitaire
LOCATION:Théâtre des Clochards Célestes - 51 rue des tables Claudiennes\, 6
	9001 Lyon
STATUS:CONFIRMED
CATEGORIES:musique live,concert
END:VEVENT
BEGIN:VEVENT
UID:1906@agenda.villemorte.fr
SUMMARY:Concert Café con cielo et Kevin Dall’Agnol
DTSTAMP:20260424T142626Z
DTSTART:20260516T180000Z
DTEND:20260517T191500Z
URL:https://agenda.villemorte.fr/event/concert-cafe-con-cielo-et-kevin-dall
	agnol
LOCATION:agend'arts - 4 Rue de Belfort\, 69004 Lyon
STATUS:CONFIRMED
CATEGORIES:concert,musique live
END:VEVENT
BEGIN:VEVENT
UID:2453@agenda.villemorte.fr
SUMMARY:Concert : Paledusk + Knosis + Greyhaven + Headwreck
DTSTAMP:20260424T142626Z
DTSTART:20260516T183000Z
DTEND:20260516T223000Z
URL:https://agenda.villemorte.fr/event/concert-paledusk-knosis-greyhaven-he
	adwreck
LOCATION:Marché Gare - 34 rue Casimir Périer\n 69002\, Lyon
STATUS:CONFIRMED
CATEGORIES:concert,bouffe,rock,musique live
END:VEVENT
BEGIN:VEVENT
UID:1907@agenda.villemorte.fr
SUMMARY:Concert Camille Laïly
DTSTAMP:20260424T142626Z
DTSTART:20260519T180000Z
DTEND:20260519T190000Z
URL:https://agenda.villemorte.fr/event/concert-camille-laily-1
LOCATION:agend'arts - 4 Rue de Belfort\, 69004 Lyon
STATUS:CONFIRMED
CATEGORIES:musique live,concert
END:VEVENT
BEGIN:VEVENT
UID:2443@agenda.villemorte.fr
SUMMARY:Nout au Périscope
DTSTAMP:20260424T142626Z
DTSTART:20260520T190000Z
DTEND:20260520T210000Z
URL:https://agenda.villemorte.fr/event/nout-au-periscope
LOCATION:Périscope - 13 rue Delandine\n 69002\, Lyon
STATUS:CONFIRMED
CATEGORIES:musique live,concert
END:VEVENT
BEGIN:VEVENT
UID:2454@agenda.villemorte.fr
SUMMARY:Concert anniversaire du Labo : Claire days + Citron Sucré + JIA
DTSTAMP:20260424T142626Z
DTSTART:20260521T183000Z
DTEND:20260521T210000Z
URL:https://agenda.villemorte.fr/event/concert-anniversaire-du-labo-claire-
	days-citron-sucre-jia
LOCATION:Marché Gare - 34 rue Casimir Périer\n 69002\, Lyon
STATUS:CONFIRMED
CATEGORIES:concert,indie pop,musique live,bouffe
END:VEVENT
BEGIN:VEVENT
UID:1712@agenda.villemorte.fr
SUMMARY:Chloé Lacan
DTSTAMP:20260424T142626Z
DTSTART:20260521T183000Z
URL:https://agenda.villemorte.fr/event/chloe-lacan-1
LOCATION:A Thou Bout d'Chant - 2 rue de Thou
STATUS:CONFIRMED
CATEGORIES:musique live,folk,chanson française,accordéon,ukulélé
END:VEVENT
BEGIN:VEVENT
UID:2389@agenda.villemorte.fr
SUMMARY:UNDER THE RADAR : Bloom in the Mist\, Raude\, BlackPlant -  Toï Toï
	 Le Zinc
DTSTAMP:20260424T142626Z
DTSTART:20260522T183000Z
DTEND:20260522T213000Z
URL:https://agenda.villemorte.fr/event/under-the-radar-bloom-in-the-mist-ra
	ude-blackplant-toi-toi-le-zinc
LOCATION:Toï Toï le Zinc - 17-19 Rue Marcel Dutartre\n 69100 \, Villeurbann
	e
STATUS:CONFIRMED
CATEGORIES:musique live,concert
END:VEVENT
BEGIN:VEVENT
UID:2444@agenda.villemorte.fr
SUMMARY:Aïtawa + James Stewart au Périscope
DTSTAMP:20260424T142626Z
DTSTART:20260522T190000Z
DTEND:20260522T210000Z
URL:https://agenda.villemorte.fr/event/aitawa-james-stewart-au-periscope
LOCATION:Périscope - 13 rue Delandine\n 69002\, Lyon
STATUS:CONFIRMED
CATEGORIES:musique live,concert
END:VEVENT
BEGIN:VEVENT
UID:2494@agenda.villemorte.fr
SUMMARY:Chaos CTRL Club · Scène ouverte
DTSTAMP:20260424T142626Z
DTSTART:20260523T170000Z
URL:https://agenda.villemorte.fr/event/chaos-ctrl-club-scene-ouverte-de-ouf
LOCATION:BosKop - 60 rue Sébastien Gryphe\n 69007\, Lyon
STATUS:CONFIRMED
CATEGORIES:théâtre,musique live,discussion
END:VEVENT
BEGIN:VEVENT
UID:2445@agenda.villemorte.fr
SUMMARY:Souls of Mischief au Périscope
DTSTAMP:20260424T142626Z
DTSTART:20260523T190000Z
DTEND:20260523T210000Z
URL:https://agenda.villemorte.fr/event/souls-of-mischief-au-periscope
LOCATION:Périscope - 13 rue Delandine\n 69002\, Lyon
STATUS:CONFIRMED
CATEGORIES:musique live,concert
END:VEVENT
BEGIN:VEVENT
UID:1908@agenda.villemorte.fr
SUMMARY:Concert Frasiak
DTSTAMP:20260424T142626Z
DTSTART:20260524T160000Z
DTEND:20260524T171500Z
URL:https://agenda.villemorte.fr/event/concert-frasiak
LOCATION:agend'arts - 4 Rue de Belfort\, 69004 Lyon
STATUS:CONFIRMED
CATEGORIES:musique live,concert
END:VEVENT
BEGIN:VEVENT
UID:2446@agenda.villemorte.fr
SUMMARY:The Dwarfs of East Agouza au Périscope
DTSTAMP:20260424T142626Z
DTSTART:20260526T190000Z
DTEND:20260526T210000Z
URL:https://agenda.villemorte.fr/event/the-dwarfs-of-east-agouza-au-perisco
	pe
LOCATION:Périscope - 13 rue Delandine\n 69002\, Lyon
STATUS:CONFIRMED
CATEGORIES:musique live,concert
END:VEVENT
BEGIN:VEVENT
UID:2509@agenda.villemorte.fr
SUMMARY:Eric Frye + Michael Flora + WK Werkowicz
DTSTAMP:20260424T142626Z
DTSTART:20260528T180000Z
URL:https://agenda.villemorte.fr/event/eric-frye-michael-flora-wk-werkowicz
LOCATION:Grrrnd Zero - 60\, avenue de Bohlen 69120\, Vaulx en Velin
STATUS:CONFIRMED
CATEGORIES:musique live
END:VEVENT
BEGIN:VEVENT
UID:2447@agenda.villemorte.fr
SUMMARY:Liam Szymonik Quartet au Périscope
DTSTAMP:20260424T142626Z
DTSTART:20260528T190000Z
DTEND:20260528T210000Z
URL:https://agenda.villemorte.fr/event/liam-szymonik-quartet-au-periscope
LOCATION:Périscope - 13 rue Delandine\n 69002\, Lyon
STATUS:CONFIRMED
CATEGORIES:musique live,concert
END:VEVENT
BEGIN:VEVENT
UID:2511@agenda.villemorte.fr
SUMMARY:LES INCANDESCENTES - Festival de Cirque féministe
DTSTAMP:20260424T142626Z
DTSTART:20260529T160000Z
DTEND:20260531T200000Z
URL:https://agenda.villemorte.fr/event/les-incandescentes-festival-de-cirqu
	e-feministe
LOCATION:Les Grandes Voisines - 40 avenue de la Table de Pierre 69340 Franc
	heville
STATUS:CONFIRMED
CATEGORIES:féminisme,musique live,atelier,festival,spectacle,cirque,table-r
	onde,associatif
END:VEVENT
BEGIN:VEVENT
UID:1909@agenda.villemorte.fr
SUMMARY:Concert Cadencia Project
DTSTAMP:20260424T142626Z
DTSTART:20260529T180000Z
DTEND:20260529T191500Z
URL:https://agenda.villemorte.fr/event/concert-cadencia-project
LOCATION:agend'arts - 4 Rue de Belfort\, 69004 Lyon
STATUS:CONFIRMED
CATEGORIES:concert,musique live
END:VEVENT
BEGIN:VEVENT
UID:2413@agenda.villemorte.fr
SUMMARY:Concert punk : AXXIDENT (punk Metz)
DTSTAMP:20260424T142626Z
DTSTART:20260530T170000Z
DTEND:20260530T210000Z
URL:https://agenda.villemorte.fr/event/concert-punk-axxident-punk-metz
LOCATION:L’Amicale Du Futur - 31 Rue Sébastien Gryphe\n 69007\, LYON
STATUS:CONFIRMED
CATEGORIES:DJ Set,musique live,concert
END:VEVENT
BEGIN:VEVENT
UID:1910@agenda.villemorte.fr
SUMMARY:Concert Keller
DTSTAMP:20260424T142626Z
DTSTART:20260530T180000Z
DTEND:20260531T191500Z
URL:https://agenda.villemorte.fr/event/concert-gabriel-keller-trio
LOCATION:agend'arts - 4 Rue de Belfort\, 69004 Lyon
STATUS:CONFIRMED
CATEGORIES:concert,musique live
END:VEVENT
BEGIN:VEVENT
UID:1911@agenda.villemorte.fr
SUMMARY:Spectacle A la recherche des mémoires perdues
DTSTAMP:20260424T142626Z
DTSTART:20260601T180000Z
DTEND:20260602T191500Z
URL:https://agenda.villemorte.fr/event/spectacle-a-la-recherche-des-memoire
	s-perdues-1
LOCATION:agend'arts - 4 Rue de Belfort\, 69004 Lyon
STATUS:CONFIRMED
CATEGORIES:conférence,musique live
END:VEVENT
BEGIN:VEVENT
UID:2518@agenda.villemorte.fr
SUMMARY:Arlt + Gilles Poizat au Périscope
DTSTAMP:20260424T142626Z
DTSTART:20260602T190000Z
DTEND:20260602T210000Z
URL:https://agenda.villemorte.fr/event/arlt-gilles-poizat-au-periscope
LOCATION:Périscope - 13 rue Delandine\n 69002\, Lyon
STATUS:CONFIRMED
CATEGORIES:concert,musique live
END:VEVENT
BEGIN:VEVENT
UID:2519@agenda.villemorte.fr
SUMMARY:I'm Free : Concert gratuit - Claude Tchamitchian solo – “In Spirit”
	 >
DTSTAMP:20260424T142626Z
DTSTART:20260603T170000Z
DTEND:20260603T190000Z
URL:https://agenda.villemorte.fr/event/im-free-concert-gratuit-claude-tcham
	itchian-solo-in-spirit-greater
LOCATION:Périscope - 13 rue Delandine\n 69002\, Lyon
STATUS:CONFIRMED
CATEGORIES:concert,musique live
END:VEVENT
BEGIN:VEVENT
UID:1713@agenda.villemorte.fr
SUMMARY:LIOR SHOOV
DTSTAMP:20260424T142626Z
DTSTART:20260604T183000Z
URL:https://agenda.villemorte.fr/event/lior-shoov
LOCATION:A Thou Bout d'Chant - 2 rue de Thou
STATUS:CONFIRMED
CATEGORIES:folk,chanson française,musique live
END:VEVENT
BEGIN:VEVENT
UID:2520@agenda.villemorte.fr
SUMMARY:nötile au Périscope
DTSTAMP:20260424T142626Z
DTSTART:20260604T190000Z
DTEND:20260604T210000Z
URL:https://agenda.villemorte.fr/event/notile-au-periscope
LOCATION:Périscope - 13 rue Delandine\n 69002\, Lyon
STATUS:CONFIRMED
CATEGORIES:concert,musique live
END:VEVENT
BEGIN:VEVENT
UID:1714@agenda.villemorte.fr
SUMMARY:NO MAD
DTSTAMP:20260424T142626Z
DTSTART:20260605T183000Z
URL:https://agenda.villemorte.fr/event/no-mad
LOCATION:A Thou Bout d'Chant - 2 rue de Thou
STATUS:CONFIRMED
CATEGORIES:folk,chanson française,musique live
END:VEVENT
BEGIN:VEVENT
UID:2174@agenda.villemorte.fr
SUMMARY:Concert Punk : SOGA (punk Mexico) + CASSE DALLE (punk Bzh)
DTSTAMP:20260424T142626Z
DTSTART:20260606T170000Z
DTEND:20260606T200000Z
URL:https://agenda.villemorte.fr/event/concert-punk-soga-punk-mexico-casse-
	dalle-punk-bzh
LOCATION:L’Amicale Du Futur - 31 Rue Sébastien Gryphe\n 69007\, LYON
STATUS:CONFIRMED
CATEGORIES:concert,musique live,DJ Set
END:VEVENT
BEGIN:VEVENT
UID:2521@agenda.villemorte.fr
SUMMARY:Whitney Johnson\, Lia Kohl\, Macie Stewart au Périscope
DTSTAMP:20260424T142626Z
DTSTART:20260610T190000Z
DTEND:20260610T210000Z
URL:https://agenda.villemorte.fr/event/whitney-johnson-lia-kohl-macie-stewa
	rt-au-periscope
LOCATION:Périscope - 13 rue Delandine\n 69002\, Lyon
STATUS:CONFIRMED
CATEGORIES:concert,musique live
END:VEVENT
BEGIN:VEVENT
UID:1912@agenda.villemorte.fr
SUMMARY:Festival  Objectif scène
DTSTAMP:20260424T142626Z
DTSTART:20260611T180000Z
DTEND:20260614T191500Z
URL:https://agenda.villemorte.fr/event/festival-objectif-scene
LOCATION:Villeurbanne ENM - 46 Cr de la République\, 69100 Villeurbanne
STATUS:CONFIRMED
CATEGORIES:concert,musique live
END:VEVENT
BEGIN:VEVENT
UID:2522@agenda.villemorte.fr
SUMMARY:Rien Faire + Bilboquets au Périscope
DTSTAMP:20260424T142626Z
DTSTART:20260611T190000Z
DTEND:20260611T210000Z
URL:https://agenda.villemorte.fr/event/rien-faire-bilboquets-au-periscope
LOCATION:Périscope - 13 rue Delandine\n 69002\, Lyon
STATUS:CONFIRMED
CATEGORIES:musique live,concert
END:VEVENT
BEGIN:VEVENT
UID:2523@agenda.villemorte.fr
SUMMARY:Groumpf + Grand CFA au Périscope
DTSTAMP:20260424T142626Z
DTSTART:20260612T170000Z
DTEND:20260612T210000Z
URL:https://agenda.villemorte.fr/event/groumpf-grand-cfa-au-periscope
LOCATION:Périscope - 13 rue Delandine\n 69002\, Lyon
STATUS:CONFIRMED
CATEGORIES:musique live,concert
END:VEVENT
BEGIN:VEVENT
UID:2524@agenda.villemorte.fr
SUMMARY:Alpha Cassiopeiae au Périscope
DTSTAMP:20260424T142626Z
DTSTART:20260616T190000Z
DTEND:20260616T210000Z
URL:https://agenda.villemorte.fr/event/alpha-cassiopeiae-au-periscope
LOCATION:Périscope - 13 rue Delandine\n 69002\, Lyon
STATUS:CONFIRMED
CATEGORIES:concert,musique live
END:VEVENT
BEGIN:VEVENT
UID:2525@agenda.villemorte.fr
SUMMARY:Hearscape + Blême + Yann Ponthus au Périscope
DTSTAMP:20260424T142626Z
DTSTART:20260617T190000Z
DTEND:20260617T210000Z
URL:https://agenda.villemorte.fr/event/hearscape-bleme-yann-ponthus-au-peri
	scope
LOCATION:Périscope - 13 rue Delandine\n 69002\, Lyon
STATUS:CONFIRMED
CATEGORIES:musique live,DJ Set
END:VEVENT
BEGIN:VEVENT
UID:2526@agenda.villemorte.fr
SUMMARY:L’Exil n’est pas un voyage au Périscope
DTSTAMP:20260424T142626Z
DTSTART:20260618T190000Z
DTEND:20260618T210000Z
URL:https://agenda.villemorte.fr/event/lexil-nest-pas-un-voyage-au-periscop
	e
LOCATION:Périscope - 13 rue Delandine\n 69002\, Lyon
STATUS:CONFIRMED
CATEGORIES:musique live,concert
END:VEVENT
BEGIN:VEVENT
UID:2404@agenda.villemorte.fr
SUMMARY:Lixiviat Festival N°4 (Grindcore)
DTSTAMP:20260424T142626Z
DTSTART:20260619T170000Z
DTEND:20260620T100000Z
URL:https://agenda.villemorte.fr/event/lixiviat-festival-ndegree4-grindcore
LOCATION:Grrrnd Zero - 60\, avenue de Bohlen 69120\, Vaulx en Velin
STATUS:CONFIRMED
CATEGORIES:concert,musique live
END:VEVENT
BEGIN:VEVENT
UID:2208@agenda.villemorte.fr
SUMMARY:GRIDIRON + CONTENTION + CLIQUE
DTSTAMP:20260424T142626Z
DTSTART:20260630T173000Z
DTEND:20260630T210000Z
URL:https://agenda.villemorte.fr/event/gridiron-contention-clique
LOCATION:Warmaudio - 29 Rue Wilson\n 69150\, Décines-Charpieu
STATUS:CONFIRMED
CATEGORIES:musique live,concert
END:VEVENT
END:VCALENDAR
